BEGIN:VCALENDAR
VERSION:2.0
PRODID:-//www.agcnebuilders.com//NONSGML kigkonsult.se iCalcreator 2.30.10/
 /
CALSCALE:GREGORIAN
METHOD:PUBLISH
UID:b4e402cc-0b10-47c9-9e2d-bd3e5dcbffc0
X-WR-CALDESC:SOLD OUT!!!\nSponsorships are still available. <a href='https:
 //www.agcnebuilders.com/file_download/inline/3ecd2a61-af3d-4c4c-99dc-81634
 15ed036' target='_blank' rel='noreferrer noopener'>Click here</a> for spon
 sorship opportunities. \n<a href='https://www.agcnebuilders.com/events/spr
 inggolfouting/'>Click here</a> for event information.\n
X-WR-RELCALID:323af5e3ea993961365a03da18f57f9e
X-WR-TIMEZONE:America/Chicago
BEGIN:VTIMEZONE
TZID:America/Chicago
BEGIN:STANDARD
TZNAME:CST
DTSTART:20231105T020000
TZOFFSETFROM:-0500
TZOFFSETTO:-0600
RDATE:20241103T020000
RDATE:20251102T020000
END:STANDARD
BEGIN:DAYLIGHT
TZNAME:CDT
DTSTART:20240310T020000
TZOFFSETFROM:-0600
TZOFFSETTO:-0500
RDATE:20250309T020000
END:DAYLIGHT
END:VTIMEZONE
BEGIN:VEVENT
UID:24a885ce-9a77-4664-9fab-d51949f70e6a
DTSTAMP:20260420T185623Z
DESCRIPTION:SOLD OUT!!!\nSponsorships are still available. <a href='https:/
 /www.agcnebuilders.com/file_download/inline/3ecd2a61-af3d-4c4c-99dc-816341
 5ed036' target='_blank' rel='noreferrer noopener'>Click here</a> for spons
 orship opportunities. \n<a href='https://www.agcnebuilders.com/events/spri
 nggolfouting/'>Click here</a> for event information.\n
DTSTART;TZID=America/Chicago:20240520T100000
DTEND;TZID=America/Chicago:20240520T173000
LOCATION:The Club at Indian Creek\, Elkhorn
SUMMARY:2024 Annual Golf Outing
END:VEVENT
END:VCALENDAR
